BEGIN:VCALENDAR
VERSION:2.0
PRODID:-//wp-events-plugin.com//7.2.3.1//EN
BEGIN:VEVENT
UID:1@cogniverse.net
DTSTART:20240831T083000Z
DTEND:20240831T133000Z
DTSTAMP:20240823T101101Z
URL:https://cogniverse.net/events/hyperledger-innovate-2024-innovations-at
 -blockchain-web3/
SUMMARY:Hyperledger Innovate 2024: Innovations at Blockchain & Web3
DESCRIPTION:Hyperledger Innovate 2024\, hosted by the Hyperledger India Ch
 apter. at HCLTech Pune (Amber Fort). This premier event is poised to promo
 te the adoption and advancement of Blockchain technology\, while seamlessl
 y uniting passionate blockchain enthusiasts hailing from every corner of t
 he nation.
ATTACH;FMTTYPE=image/jpeg:https://cogniverse.net/wp-content/uploads/Hyperl
 edger-Innovate-2024.png
CATEGORIES:Hackathon,Technology Event
LOCATION:HCLTech Pune (Amber Fort)\, Hinjewadi Phase 1 Rd\, Phase 1\, Hinja
 wadi Rajiv Gandhi Infotech Park\, Hinjawadi\, Pimpri-Chinchwad\, Maharasht
 ra\, 411057\, India
X-APPLE-STRUCTURED-LOCATION;VALUE=URI;X-ADDRESS=Hinjewadi Phase 1 Rd\, Phas
 e 1\, Hinjawadi Rajiv Gandhi Infotech Park\, Hinjawadi\, Pimpri-Chinchwad\
 , Maharashtra\, 411057\, India;X-APPLE-RADIUS=100;X-TITLE=HCLTech Pune (Am
 ber Fort):geo:0,0
END:VEVENT
END:VCALENDAR